BEGIN:VCALENDAR
VERSION:2.0
PRODID:-//FNE 25 - ECPv6.11.2.1//NONSGML v1.0//EN
CALSCALE:GREGORIAN
METHOD:PUBLISH
X-ORIGINAL-URL:https://www.fne25.fr
X-WR-CALDESC:Évènements pour FNE 25
REFRESH-INTERVAL;VALUE=DURATION:PT1H
X-Robots-Tag:noindex
X-PUBLISHED-TTL:PT1H
BEGIN:VTIMEZONE
TZID:Europe/Paris
BEGIN:DAYLIGHT
TZOFFSETFROM:+0100
TZOFFSETTO:+0200
TZNAME:CEST
DTSTART:20250330T010000
END:DAYLIGHT
BEGIN:STANDARD
TZOFFSETFROM:+0200
TZOFFSETTO:+0100
TZNAME:CET
DTSTART:20251026T010000
END:STANDARD
END:VTIMEZONE
BEGIN:VEVENT
DTSTART;TZID=Europe/Paris:20251106T200000
DTEND;TZID=Europe/Paris:20251106T213000
DTSTAMP:20260421T151220
CREATED:20251106T085545Z
LAST-MODIFIED:20251106T085545Z
UID:1524-1762459200-1762464600@www.fne25.fr
SUMMARY:Conférence « Comment préserver le hérisson d’Europe ? »
DESCRIPTION:Qui est le hérisson d’Europe ? Quelles menaces pèsent sur cette espèce ? Est-il en voie de disparition ? Et que peut-on faire pour le protéger ? Venez découvrir ce petit animal de nos campagnes à travers une conférence qui ne manquera pas de piquants !
URL:https://www.fne25.fr/event/conference-comment-preserver-le-herisson-deurope-3/
LOCATION:Les Fins\, 1\, sous les sangles\, Les Fins\, 25500
END:VEVENT
BEGIN:VEVENT
DTSTART;TZID=Europe/Paris:20251107T200000
DTEND;TZID=Europe/Paris:20251107T220000
DTSTAMP:20260421T151220
CREATED:20251106T084513Z
LAST-MODIFIED:20251106T084558Z
UID:1513-1762545600-1762552800@www.fne25.fr
SUMMARY:CARELI Soirée bilan de mi-parcours
DESCRIPTION:
URL:https://www.fne25.fr/event/careli-soiree-bilan-de-mi-parcours/
LOCATION:Pierrefontaine-les-Varans\, 1\, place de la Mairie\, Pierrefontaine-les-Varans\, Doubs\, 25510\, France
END:VEVENT
BEGIN:VEVENT
DTSTART;TZID=Europe/Paris:20251114T200000
DTEND;TZID=Europe/Paris:20251114T220000
DTSTAMP:20260421T151220
CREATED:20251106T084948Z
LAST-MODIFIED:20251106T085053Z
UID:1517-1763150400-1763157600@www.fne25.fr
SUMMARY:CARELI : Soirée bilan de mi-parcours
DESCRIPTION:
URL:https://www.fne25.fr/event/soiree-careli-bilan-de-mi-parcours/
LOCATION:Mouthe\, Mouthe\, 25240
END:VEVENT
BEGIN:VEVENT
DTSTART;TZID=Europe/Paris:20251114T200000
DTEND;TZID=Europe/Paris:20251114T223000
DTSTAMP:20260421T151220
CREATED:20251112T084214Z
LAST-MODIFIED:20251112T084214Z
UID:1528-1763150400-1763159400@www.fne25.fr
SUMMARY:Projection - "Le Vivant qui se défend" de Vincent Verzat
DESCRIPTION:
URL:https://www.fne25.fr/event/projection-le-vivant-qui-se-defend-de-vincent-verzat/
LOCATION:cinéma victor hugo besançon\, 6 Rue Gambetta\, Besançon\, 25000\, France
END:VEVENT
END:VCALENDAR