BEGIN:VCALENDAR
VERSION:2.0
PRODID:-//FNE 25 - ECPv6.11.2.1//NONSGML v1.0//EN
CALSCALE:GREGORIAN
METHOD:PUBLISH
X-WR-CALNAME:FNE 25
X-ORIGINAL-URL:https://www.fne25.fr
X-WR-CALDESC:Évènements pour FNE 25
REFRESH-INTERVAL;VALUE=DURATION:PT1H
X-Robots-Tag:noindex
X-PUBLISHED-TTL:PT1H
BEGIN:VTIMEZONE
TZID:Europe/Paris
BEGIN:DAYLIGHT
TZOFFSETFROM:+0100
TZOFFSETTO:+0200
TZNAME:CEST
DTSTART:20250330T010000
END:DAYLIGHT
BEGIN:STANDARD
TZOFFSETFROM:+0200
TZOFFSETTO:+0100
TZNAME:CET
DTSTART:20251026T010000
END:STANDARD
END:VTIMEZONE
BEGIN:VEVENT
DTSTART;TZID=Europe/Paris:20250913T143000
DTEND;TZID=Europe/Paris:20250913T210000
DTSTAMP:20260421T184637
CREATED:20250709T094647Z
LAST-MODIFIED:20250709T094954Z
UID:1414-1757773800-1757797200@www.fne25.fr
SUMMARY:Mine(s) de rien\, ça change tout
DESCRIPTION:  \nMine(s) de rien\, ça change tout » est un événement organisé par le CCFD-Terre Solidaire\, qui se déroulera le samedi 13 septembre de 14h à 21h à Besançon. \nExtractivisme \nDire non aux abus des multinationales ! \nCe modèle économique\, dominé par des multinationales du Nord\, exploite les ressources naturelles des pays du Sud au prix de graves atteintes aux droits humains et à l’environnement. Les populations locales\, souvent exclues des décisions qui impactent leur avenir\, voient leurs droits bafoués. Pourtant\, elles ont le droit de dire NON ! \nEn savoir +
URL:https://www.fne25.fr/event/mines-de-rien-ca-change-tout/
LOCATION:Esaplanade des Droits de l’homme\, Esplanade des Droits de l'homme\, Besançon\, 25000\, France
END:VEVENT
BEGIN:VEVENT
DTSTART;TZID=Europe/Paris:20250918T200000
DTEND;TZID=Europe/Paris:20250918T230000
DTSTAMP:20260421T184637
CREATED:20250911T073611Z
LAST-MODIFIED:20250911T073636Z
UID:1453-1758225600-1758236400@www.fne25.fr
SUMMARY:Des cailloux dans la chaussure
DESCRIPTION:Venez nombreux découvrir le film Des cailloux dans la chaussure qui met en avant la réussite des habitants dans leur passage à l’action face à l’arrivée d’une carrière.\n\n\n\nProjection gratuite du film le jeudi 18 septembre 2025 à 20h à l’Habitat Jeunes Les Oiseaux\, 48 rue des Cras à Besançon.\n\n\n\nAux portes du Vercors\, les habitants de Saint-Nazaire-en-Royans découvrent qu’une carrière de roches massives veut s’installer sur la petite montagne surplombant leur village : le mont Vanille.\n\n\n\nAbasourdi par le gigantisme du projet\, se sentant trahi par les élus\, le village se mobilise… Il y aura du travail\, de l’énergie\, des déconvenues. Et il y aura une victoire.\n\n\n\nCiné-rencontre proposée par l’Association Bien Vivre à Taxenne (39) dont l’histoire entre en résonance avec le film en partenariat avec France Nature Environnement Doubs.
URL:https://www.fne25.fr/event/des-cailloux-dans-la-chaussure/
LOCATION:Habitat Jeunes Les Oiseaux\, 48 rue des Cras\, Besançon\, 25000\, France
ORGANIZER;CN="FNE Doubs":MAILTO:contact@fne25.fr
END:VEVENT
BEGIN:VEVENT
DTSTART;TZID=Europe/Paris:20250926T200000
DTEND;TZID=Europe/Paris:20250926T210000
DTSTAMP:20260421T184637
CREATED:20250926T104329Z
LAST-MODIFIED:20250926T104329Z
UID:1472-1758916800-1758920400@www.fne25.fr
SUMMARY:Conférence "Comment préserver le hérisson d'Europe ?"
DESCRIPTION:Qui est le hérisson d’Europe ? Quelles menaces pèsent sur cette espèce ? Est-il en voie de disparition ? Et que peut-on faire pour le protéger ? Venez découvrir ce petit animal de nos campagnes à travers une conférence qui ne manquera pas de piquants !
URL:https://www.fne25.fr/event/conference-comment-preserver-le-herisson-deurope-2/
LOCATION:Bibliothèque d’Amagney\, 1\, place de la Mairie\, Amagney\, 25220\, France
ORGANIZER;CN="FNE Doubs":MAILTO:contact@fne25.fr
END:VEVENT
BEGIN:VEVENT
DTSTART;TZID=Europe/Paris:20250927T143000
DTEND;TZID=Europe/Paris:20250927T163000
DTSTAMP:20260421T184637
CREATED:20250926T105124Z
LAST-MODIFIED:20250926T105124Z
UID:1477-1758983400-1758990600@www.fne25.fr
SUMMARY:Sortie jardin "Sur la piste du hérisson"
DESCRIPTION:Partons sur la piste du hérisson\, et découvrons le jardin à travers ses yeux. De quoi a-t-il besoin pour vivre ? Quels sont les aménagements bénéfiques à sa présence ? A l’inverse\, quels sont les dangers qu’il peut rencontrer et comment les éviter ? A travers un diagnostic écologique du site\, nous répondrons à vos questions afin d’offrir un milieu naturel et paisible à ce petit mammifère. Nous terminerons la séance par une initiation à l’installation d’un abri à hérisson. Où et comment l’installer ? Quels matériaux utiliser ? Découvrez nos conseils et astuces lors de cette sortie.
URL:https://www.fne25.fr/event/sortie-jardin-sur-la-piste-du-herisson/
LOCATION:Bibliothèque d’Amagney\, 1\, place de la Mairie\, Amagney\, 25220\, France
ORGANIZER;CN="FNE Doubs":MAILTO:contact@fne25.fr
END:VEVENT
BEGIN:VEVENT
DTSTART;TZID=Europe/Paris:20250927T143000
DTEND;TZID=Europe/Paris:20250927T173000
DTSTAMP:20260421T184637
CREATED:20250926T103533Z
LAST-MODIFIED:20250926T103533Z
UID:1467-1758983400-1758994200@www.fne25.fr
SUMMARY:Fresque de la biodiversité
DESCRIPTION:Venez découvrir et participer à la Fresque de la biodiversité pour comprendre les interactions au sein de nos écosystèmes et protéger la biodiversité.
URL:https://www.fne25.fr/event/fresque-de-la-biodiversite/
LOCATION:Bibliothèque de Gennes\, 1\, rue du Lavoir\, Gennes\, 25660\, France
ORGANIZER;CN="FNE Doubs":MAILTO:contact@fne25.fr
END:VEVENT
END:VCALENDAR