BEGIN:VCALENDAR
VERSION:2.0
PRODID:-//FNE 25 - ECPv6.11.2.1//NONSGML v1.0//EN
CALSCALE:GREGORIAN
METHOD:PUBLISH
X-WR-CALNAME:FNE 25
X-ORIGINAL-URL:https://www.fne25.fr
X-WR-CALDESC:Évènements pour FNE 25
REFRESH-INTERVAL;VALUE=DURATION:PT1H
X-Robots-Tag:noindex
X-PUBLISHED-TTL:PT1H
BEGIN:VTIMEZONE
TZID:Europe/Paris
BEGIN:DAYLIGHT
TZOFFSETFROM:+0100
TZOFFSETTO:+0200
TZNAME:CEST
DTSTART:20240331T010000
END:DAYLIGHT
BEGIN:STANDARD
TZOFFSETFROM:+0200
TZOFFSETTO:+0100
TZNAME:CET
DTSTART:20241027T010000
END:STANDARD
END:VTIMEZONE
BEGIN:VEVENT
DTSTART;TZID=Europe/Paris:20241109T140000
DTEND;TZID=Europe/Paris:20241109T170000
DTSTAMP:20260424T065546
CREATED:20240205T141009Z
LAST-MODIFIED:20240205T141009Z
UID:581-1731160800-1731171600@www.fne25.fr
SUMMARY:🌳🍄 Sortie nature mycologie au bois du Vernois - Association SHNPM
DESCRIPTION:Sortie mycologique grand public le samedi 9 novembre 2024 au bois du Vernois\, à l’Espace Naturel Sensible de la Baume à Valentigney\, dans le cadre du dispositif des « Sorties nature 2024 » du Département sur les ENS du Doubs. \nLieu : Espace Naturel Sensible de la Baume à Valentigney\n \nResponsable : Daniel Prudhon \nRendez-vous à 14h sur le parking du cimetière\, route de la Baume à Valentigney.\n \nInscription obligatoire : shnpm@orange.fr
URL:https://www.fne25.fr/event/%f0%9f%8c%b3%f0%9f%8d%84-sortie-nature-mycologie-au-bois-du-vernois-association-shnpm/
END:VEVENT
END:VCALENDAR