BEGIN:VCALENDAR
VERSION:2.0
PRODID:-//FNE 25 - ECPv6.11.2.1//NONSGML v1.0//EN
CALSCALE:GREGORIAN
METHOD:PUBLISH
X-WR-CALNAME:FNE 25
X-ORIGINAL-URL:https://www.fne25.fr
X-WR-CALDESC:Évènements pour FNE 25
REFRESH-INTERVAL;VALUE=DURATION:PT1H
X-Robots-Tag:noindex
X-PUBLISHED-TTL:PT1H
BEGIN:VTIMEZONE
TZID:Europe/Paris
BEGIN:DAYLIGHT
TZOFFSETFROM:+0100
TZOFFSETTO:+0200
TZNAME:CEST
DTSTART:20240331T010000
END:DAYLIGHT
BEGIN:STANDARD
TZOFFSETFROM:+0200
TZOFFSETTO:+0100
TZNAME:CET
DTSTART:20241027T010000
END:STANDARD
END:VTIMEZONE
BEGIN:VEVENT
DTSTART;TZID=Europe/Paris:20240901T140000
DTEND;TZID=Europe/Paris:20240901T210000
DTSTAMP:20260424T095214
CREATED:20240830T144026Z
LAST-MODIFIED:20240830T144218Z
UID:900-1725199200-1725224400@www.fne25.fr
SUMMARY:Fête de rentrée aux Vaites dimanche 1er septembre à partir de 14h
DESCRIPTION:
URL:https://www.fne25.fr/event/fete-de-rentree-aux-vaites-dimanche-1er-septembre-a-partir-de-14h/
LOCATION:AGORA\, Rue max Jacob\, Besançon\, 2500\, France
END:VEVENT
BEGIN:VEVENT
DTSTART;TZID=Europe/Paris:20240906T200000
DTEND;TZID=Europe/Paris:20240906T220000
DTSTAMP:20260424T095214
CREATED:20240831T103539Z
LAST-MODIFIED:20240831T103900Z
UID:933-1725652800-1725660000@www.fne25.fr
SUMMARY:🐺 Champagnole - Conférence "Le retour naturel du loup"
DESCRIPTION:Après avoir disparu en France\, le loup est naturellement de retour dans notre région et reconquiert peu à peu ses anciens territoires. Où est-il présent ? Comment vit-il ? Est-il dangereux ? Comment concilier sa présence et les activités d’élevage ? \nEmmanuel Cretin\, biologiste écologue et spécialiste de l’aménagement du territoire et de l’environnement rural vous propose d’en apprendre plus sur le loup le temps d’une soirée. \nInscriptions via le formulaire ci-dessous : bit.ly/conference-champagnole .
URL:https://www.fne25.fr/event/%f0%9f%90%ba-conference-le-retour-naturel-du-loup-2/
LOCATION:Salle du Rex\, 26 rue Baronne Delort\, Champagnole\, 39300
END:VEVENT
BEGIN:VEVENT
DTSTART;TZID=Europe/Paris:20240907T110000
DTEND;TZID=Europe/Paris:20240907T130000
DTSTAMP:20260424T095214
CREATED:20240228T141651Z
LAST-MODIFIED:20240228T141821Z
UID:646-1725706800-1725714000@www.fne25.fr
SUMMARY:🍵​ Repas offert au jardin - Collectif écocitoyen de Marchaux
DESCRIPTION:Samedi 7 septembre\, Jardin participatif – 11h (soupe au pistou à partir de nos productions) \n  \n 
URL:https://www.fne25.fr/event/%f0%9f%8d%b5-repas-offert-au-jardin-collectif-ecocitoyen-de-marchaux/
LOCATION:Marchaux\, Place de la Mairie\, Marchaux\, France
END:VEVENT
BEGIN:VEVENT
DTSTART;TZID=Europe/Paris:20240921T090000
DTEND;TZID=Europe/Paris:20240921T170000
DTSTAMP:20260424T095214
CREATED:20240920T150526Z
LAST-MODIFIED:20240920T150526Z
UID:1059-1726909200-1726938000@www.fne25.fr
SUMMARY:🪨 Venez rencontrer Murs et Murgers !
DESCRIPTION:Retrouvez l’association Murs et Murgers le samedi 21 septembre au Marché bio de Bélieu de 9h à 17h. \nPour plus d’informations : \n06 83 33 15 40 \nhttps://www.facebook.com/Murs-et-Murgers-1879351655676620
URL:https://www.fne25.fr/event/%f0%9f%aa%a8-venez-rencontrer-murs-et-murgers/
LOCATION:Bélieu
END:VEVENT
BEGIN:VEVENT
DTSTART;TZID=Europe/Paris:20240921T103000
DTEND;TZID=Europe/Paris:20240921T103000
DTSTAMP:20260424T095214
CREATED:20240829T144041Z
LAST-MODIFIED:20240829T151636Z
UID:864-1726914600-1726914600@www.fne25.fr
SUMMARY:Vélorution de septembre
DESCRIPTION:Vélorution de septembre (velobesancon.info)
URL:https://www.fne25.fr/event/velorution-de-septembre/
LOCATION:.\, Esplanade des Droits de l'Homme\, Besançon\, 25000\, France
END:VEVENT
BEGIN:VEVENT
DTSTART;VALUE=DATE:20240922
DTEND;VALUE=DATE:20240923
DTSTAMP:20260424T095214
CREATED:20240920T151028Z
LAST-MODIFIED:20240920T151028Z
UID:1064-1726963200-1727049599@www.fne25.fr
SUMMARY:🪨 Chantier restauration de murs et visites commentées
DESCRIPTION:Ce dimanche 22 septembre\, retrouvez l’association Murs et murgers à partir de 9h et tout au long de la journée pour un chantier de restauration et des visites commentées.Cet événement vous est proposé dans le cadre des journées européennes du patrimoine. RDV au hameau des Cerneux à Laval-le-Prieuré\, route le Luhier/Gigot. \nCes chantiers sont ouverts au public (curieux\, amoureux·ses des pierres\, des murs et murgers)\, pour entretenir le patrimoine\, pour apprendre\, pour partager ses connaissances\, pour passer un moment convivial… \nPour plus d’informations : \n06 83 33 15 40 \nhttps://www.facebook.com/Murs-et-Murgers-1879351655676620
URL:https://www.fne25.fr/event/%f0%9f%aa%a8-chantier-restauration-de-murs-et-visites-commentees/
LOCATION:Laval le Prieuré\, Laval le Prieuré\, France
END:VEVENT
BEGIN:VEVENT
DTSTART;TZID=Europe/Paris:20240923T080000
DTEND;TZID=Europe/Paris:20240929T170000
DTSTAMP:20260424T095214
CREATED:20240916T144927Z
LAST-MODIFIED:20240916T144927Z
UID:1047-1727078400-1727629200@www.fne25.fr
SUMMARY:🦔 Fête des Hérissons 2024
DESCRIPTION:Cette année\, France Nature Environnement Doubs participe à la Fête des Hérissons organisée par le mouvement France Nature Environnement\, dans toute la France\, du 23 au 29 septembre. L’occasion de participer à des animations diverses sur le Doubs et un peu partout sur le territoire… Retrouvez le programme que vous a concocté FNE Doubs juste ici.
URL:https://www.fne25.fr/event/%f0%9f%a6%94-fete-des-herissons-2024/
END:VEVENT
BEGIN:VEVENT
DTSTART;TZID=Europe/Paris:20240923T173000
DTEND;TZID=Europe/Paris:20240923T183000
DTSTAMP:20260424T095214
CREATED:20240916T142923Z
LAST-MODIFIED:20240918T091546Z
UID:1025-1727112600-1727116200@www.fne25.fr
SUMMARY:🦔 Webinaire «Le hérisson\, quand a-t-il vraiment besoin de notre aide ?» 
DESCRIPTION:Pour commencer La Fête des Hérissons\, retrouvez un webinaire gratuit au court duquel différents acteurs et actrices de la protection du hérisson d’Europe interviendront afin de vous parler du hérisson\, des causes d’entrée en centre de soin ou encore des gestes à adopter. Ce webinaire vous est proposé par France Nature Environnement les Vétérinaire pour la biodiversité. Accédez au formulaire d’inscription pour le visionner.
URL:https://www.fne25.fr/event/webinaire-le-herisson-quand-a-t-il-vraiment-besoin-de-notre-aide/
LOCATION:En ligne
END:VEVENT
BEGIN:VEVENT
DTSTART;TZID=Europe/Paris:20240925T143000
DTEND;TZID=Europe/Paris:20240925T173000
DTSTAMP:20260424T095214
CREATED:20240916T144025Z
LAST-MODIFIED:20240916T144405Z
UID:1034-1727274600-1727285400@www.fne25.fr
SUMMARY:🦔 A la découverte du hérisson - Animations jeunesse
DESCRIPTION:Pour poursuivre les festivités de la Fête des Hérissons\, retrouvez nous pour une après-midi d’animations et d’ateliers adressés à la jeunesse à la Médiathèque des Tilleuls. Au programme : \n\n\n\n14h30 – Le hérisson et les animaux du jardin (1h15\, 7 à 10 ans\, sur inscription) : Atelier sensoriel autour du hérisson\, où vivent les animaux du jardin et que faire face à un hérisson en détresse ? \n\n\n\n16h – Il était une fois un hérisson (30 min\, à partir de 4 ans\, accès libre) : Découvrez les péripéties d’un hérisson contées à travers un kamishibaï et d’autres histoires sur notre ami à piquants. \n\n\n\n16h45 – A la découverte du hérisson ! (1h15\, 5 à 8 ans\, sur inscription) : Apprendre à connaître le hérisson et ses cousins éloignés – Atelier : comment fabriquer son hérisson pom-pom ? \n\n\n\nPour les inscriptions et plus d’informations : Médiathèque des Tilleurs – 24 rue des Roses – 25000 Besançon – 0381878066
URL:https://www.fne25.fr/event/a-la-decouverte-du-herisson-animations-jeunesse/
LOCATION:Médiathèque des Tilleuls\, 24 rue des Roses\, Besançon\, 25000\, France
ORGANIZER;CN="FNE Doubs":MAILTO:contact@fne25.fr
END:VEVENT
BEGIN:VEVENT
DTSTART;TZID=Europe/Paris:20240926T183000
DTEND;TZID=Europe/Paris:20240926T200000
DTSTAMP:20260424T095214
CREATED:20240916T144146Z
LAST-MODIFIED:20240916T144339Z
UID:1037-1727375400-1727380800@www.fne25.fr
SUMMARY:🦔 Conférence - Comment préserver le hérisson d'Europe ?
DESCRIPTION:Le hérisson d’Europe\, petit mammifère bien connu de nos jardins\, fait face à de nombreuses menaces. Les jardins\, les espaces verts des communes\, peuvent devenir de véritables havres de nature pour la biodiversité lorsqu’on y met en place les bonnes pratiques. Comment préserver le hérisson ? Quels gestes adopter pour favoriser la biodiversité ? Découvrez les solutions proposées par France Nature Environnement Doubs et devenez un·e ambassadeur·rice de la Nature ! Cette conférence vous est proposée avec la Médiathèque des Tilleuls située à Besançon. \n\n\n\nPour plus d’informations et lieu de la conférence : Médiathèque des Tilleuls – 24 rue des Roses – 25000 Besançon – 0381878066.
URL:https://www.fne25.fr/event/conference-comment-preserver-le-herisson-deurope/
LOCATION:Médiathèque des Tilleuls\, 24 rue des Roses\, Besançon\, 25000\, France
ORGANIZER;CN="FNE Doubs":MAILTO:contact@fne25.fr
END:VEVENT
BEGIN:VEVENT
DTSTART;TZID=Europe/Paris:20240928T090000
DTEND;TZID=Europe/Paris:20240930T170000
DTSTAMP:20260424T095214
CREATED:20240205T135505Z
LAST-MODIFIED:20240205T135505Z
UID:569-1727514000-1727715600@www.fne25.fr
SUMMARY:🌏 Fête de la nature Seloncourt - Association SHNPM
DESCRIPTION:Fête de la Nature avec une exposition sur les champignons à la salle polyvalente de Seloncourt. \nPlus d’informations sur le site de la SHNPM : www.societe-histoire-naturelle-montbeliard.fr ou par courriel : shnpm@orange.fr.
URL:https://www.fne25.fr/event/%f0%9f%8c%8f-fete-de-la-nature-seloncourt-association-shnpm/
END:VEVENT
BEGIN:VEVENT
DTSTART;TZID=Europe/Paris:20240928T110000
DTEND;TZID=Europe/Paris:20240928T170000
DTSTAMP:20260424T095214
CREATED:20240916T144618Z
LAST-MODIFIED:20240917T073654Z
UID:1043-1727521200-1727542800@www.fne25.fr
SUMMARY:🦔 Atelier "construire un abri" et rencontres avec FNE Doubs
DESCRIPTION:11h – 12h – Atelier créer un abri pour hérisson (sur inscription) : Jardiland et France Nature Environnement Doubs vous proposent un atelier « Créer un abri pour hérisson ». Que vous soyez bricolo ou non\, entre adultes ou en famille\, découvrez comment construire cet abri. L’hiver étant proche\, c’est la période idéale pour installer ce refuge dans votre jardin ! \nPour s’inscrire : https://rdv.az/bjsdCNT5vHg \n\n\n\n12h-17h : Comment préserver le hérisson ? : Quels gestes mettre en place pour protéger le hérisson ? Comment faire de votre jardin un refuge de Nature ? A quel point connaissez vous le hérisson ? Comment participer à l’Opération Hérisson ? Retrouvez les réponses à ces questions sur le stand de France Nature Environnement Doubs\, avec la présence d’une spécialiste du hérisson d’Europe\, qui répondra à toutes vos questions. Venez tester vos connaissances sur la stand à travers différentes animations pour petits et grands ! \n\n\n\nPour plus d’informations : 0752042925.
URL:https://www.fne25.fr/event/%f0%9f%a6%94-atelier-construire-un-abri-et-rencontres-avec-fne-doubs/
LOCATION:Jardiland de Besançon\, Zone commerciale Chateaufarine\, 161 Rue de Dole\, Besançon\, 25000\, France
ORGANIZER;CN="FNE Doubs":MAILTO:contact@fne25.fr
END:VEVENT
END:VCALENDAR