BEGIN:VCALENDAR
VERSION:2.0
PRODID:-//FNE 25 - ECPv6.11.2.1//NONSGML v1.0//EN
CALSCALE:GREGORIAN
METHOD:PUBLISH
X-ORIGINAL-URL:https://www.fne25.fr
X-WR-CALDESC:Évènements pour FNE 25
REFRESH-INTERVAL;VALUE=DURATION:PT1H
X-Robots-Tag:noindex
X-PUBLISHED-TTL:PT1H
BEGIN:VTIMEZONE
TZID:Europe/Paris
BEGIN:DAYLIGHT
TZOFFSETFROM:+0100
TZOFFSETTO:+0200
TZNAME:CEST
DTSTART:20250330T010000
END:DAYLIGHT
BEGIN:STANDARD
TZOFFSETFROM:+0200
TZOFFSETTO:+0100
TZNAME:CET
DTSTART:20251026T010000
END:STANDARD
END:VTIMEZONE
BEGIN:VEVENT
DTSTART;TZID=Europe/Paris:20251004T090000
DTEND;TZID=Europe/Paris:20251004T120000
DTSTAMP:20260421T183719
CREATED:20250926T082258Z
LAST-MODIFIED:20250926T105257Z
UID:1462-1759568400-1759579200@www.fne25.fr
SUMMARY:Sortie champignons
DESCRIPTION:Pour tout savoir sur les champignons : les découvrir\, les comprendre\, les identifier et les cueillir. \nA vos paniers !
URL:https://www.fne25.fr/event/sortie-champignons/
LOCATION:Marchaux\, Place de la Mairie\, Marchaux\, France
END:VEVENT
END:VCALENDAR