BEGIN:VCALENDAR
VERSION:2.0
PRODID:-//FNE 25 - ECPv6.11.2.1//NONSGML v1.0//EN
CALSCALE:GREGORIAN
METHOD:PUBLISH
X-WR-CALNAME:FNE 25
X-ORIGINAL-URL:https://www.fne25.fr
X-WR-CALDESC:Évènements pour FNE 25
REFRESH-INTERVAL;VALUE=DURATION:PT1H
X-Robots-Tag:noindex
X-PUBLISHED-TTL:PT1H
BEGIN:VTIMEZONE
TZID:Europe/Paris
BEGIN:DAYLIGHT
TZOFFSETFROM:+0100
TZOFFSETTO:+0200
TZNAME:CEST
DTSTART:20250330T010000
END:DAYLIGHT
BEGIN:STANDARD
TZOFFSETFROM:+0200
TZOFFSETTO:+0100
TZNAME:CET
DTSTART:20251026T010000
END:STANDARD
END:VTIMEZONE
BEGIN:VEVENT
DTSTART;TZID=Europe/Paris:20250913T143000
DTEND;TZID=Europe/Paris:20250913T210000
DTSTAMP:20260421T214648
CREATED:20250709T094647Z
LAST-MODIFIED:20250709T094954Z
UID:1414-1757773800-1757797200@www.fne25.fr
SUMMARY:Mine(s) de rien\, ça change tout
DESCRIPTION:  \nMine(s) de rien\, ça change tout » est un événement organisé par le CCFD-Terre Solidaire\, qui se déroulera le samedi 13 septembre de 14h à 21h à Besançon. \nExtractivisme \nDire non aux abus des multinationales ! \nCe modèle économique\, dominé par des multinationales du Nord\, exploite les ressources naturelles des pays du Sud au prix de graves atteintes aux droits humains et à l’environnement. Les populations locales\, souvent exclues des décisions qui impactent leur avenir\, voient leurs droits bafoués. Pourtant\, elles ont le droit de dire NON ! \nEn savoir +
URL:https://www.fne25.fr/event/mines-de-rien-ca-change-tout/
LOCATION:Esaplanade des Droits de l’homme\, Esplanade des Droits de l'homme\, Besançon\, 25000\, France
END:VEVENT
END:VCALENDAR