BEGIN:VCALENDAR
VERSION:2.0
PRODID:-//FNE 25 - ECPv6.11.2.1//NONSGML v1.0//EN
CALSCALE:GREGORIAN
METHOD:PUBLISH
X-ORIGINAL-URL:https://www.fne25.fr
X-WR-CALDESC:Évènements pour FNE 25
REFRESH-INTERVAL;VALUE=DURATION:PT1H
X-Robots-Tag:noindex
X-PUBLISHED-TTL:PT1H
BEGIN:VTIMEZONE
TZID:Europe/Paris
BEGIN:DAYLIGHT
TZOFFSETFROM:+0100
TZOFFSETTO:+0200
TZNAME:CEST
DTSTART:20250330T010000
END:DAYLIGHT
BEGIN:STANDARD
TZOFFSETFROM:+0200
TZOFFSETTO:+0100
TZNAME:CET
DTSTART:20251026T010000
END:STANDARD
END:VTIMEZONE
BEGIN:VEVENT
DTSTART;TZID=Europe/Paris:20250315T143000
DTEND;TZID=Europe/Paris:20250315T170000
DTSTAMP:20260423T040342
CREATED:20250305T080142Z
LAST-MODIFIED:20250305T080142Z
UID:1248-1742049000-1742058000@www.fne25.fr
SUMMARY:Troc de graines et animation FNE 25 "L'écosystème jardin"
DESCRIPTION:L’association des Jardins familiaux de Chalezeule organise : \n\nUn échanges de graines\,\nde plants et d’accessoires de jardin\nRendez-vous le samedi 15 mars de 14h à 17h !\nUne petite restauration sera proposée sur place. \n  \nA 14h30\, retrouvez notre animatrice pour une animation sur l’écosystème jardin !\nPartez à la découverte de cette faune de proximité\, et découvrez comment l’accueillir\,\nla protéger et favoriser les services qu’elle peut nous rendre au jardin.\nAnimation gratuite et ouverte à tous ! \nAu plaisir de vous retrouver !
URL:https://www.fne25.fr/event/troc-de-graines-et-animation-fne-25-lecosysteme-jardin/
LOCATION:Jardins familiaux de Chalezeule\, 15 chemin de Charmarin\, Chalezeule\, 25220\, France
END:VEVENT
END:VCALENDAR