BEGIN:VCALENDAR
VERSION:2.0
PRODID:-//FNE 25 - ECPv6.11.2.1//NONSGML v1.0//EN
CALSCALE:GREGORIAN
METHOD:PUBLISH
X-ORIGINAL-URL:https://www.fne25.fr
X-WR-CALDESC:Évènements pour FNE 25
REFRESH-INTERVAL;VALUE=DURATION:PT1H
X-Robots-Tag:noindex
X-PUBLISHED-TTL:PT1H
BEGIN:VTIMEZONE
TZID:Europe/Paris
BEGIN:DAYLIGHT
TZOFFSETFROM:+0100
TZOFFSETTO:+0200
TZNAME:CEST
DTSTART:20250330T010000
END:DAYLIGHT
BEGIN:STANDARD
TZOFFSETFROM:+0200
TZOFFSETTO:+0100
TZNAME:CET
DTSTART:20251026T010000
END:STANDARD
END:VTIMEZONE
BEGIN:VEVENT
DTSTART;TZID=Europe/Paris:20250308T090000
DTEND;TZID=Europe/Paris:20250308T120000
DTSTAMP:20260423T134810
CREATED:20250305T094800Z
LAST-MODIFIED:20250305T094826Z
UID:1257-1741424400-1741435200@www.fne25.fr
SUMMARY:Atelier répare-tout à l'école de Marchaux 🛠️
DESCRIPTION:Le collectif éco-citoyen de Marchaux-Chaudefontaine vous propose un atelier répare-tout ce samedi 8 mars de 9h à 12h à l’école de Marchaux. \nVous avez des objets du quotidien à remettre en état ou vous souhaitez apprendre/vous perfectionner dans des petits travaux ? Alors cet événement est fait pour vous ! \nCe genre d’atelier permet de lutter contre le gaspillage et de rendre les personnes plus autonomes. C’est également un moment de partage de compétences\, de savoir-faire et de rencontres. \n 
URL:https://www.fne25.fr/event/atelier-repare-tout-a-lecole-de-marchaux-%f0%9f%9b%a0%ef%b8%8f/
LOCATION:Ecole de Marchaux\, France
END:VEVENT
END:VCALENDAR