BEGIN:VCALENDAR
VERSION:2.0
PRODID:-//FNE 25 - ECPv6.11.2.1//NONSGML v1.0//EN
CALSCALE:GREGORIAN
METHOD:PUBLISH
X-WR-CALNAME:FNE 25
X-ORIGINAL-URL:https://www.fne25.fr
X-WR-CALDESC:Évènements pour FNE 25
REFRESH-INTERVAL;VALUE=DURATION:PT1H
X-Robots-Tag:noindex
X-PUBLISHED-TTL:PT1H
BEGIN:VTIMEZONE
TZID:Europe/Paris
BEGIN:DAYLIGHT
TZOFFSETFROM:+0100
TZOFFSETTO:+0200
TZNAME:CEST
DTSTART:20250330T010000
END:DAYLIGHT
BEGIN:STANDARD
TZOFFSETFROM:+0200
TZOFFSETTO:+0100
TZNAME:CET
DTSTART:20251026T010000
END:STANDARD
END:VTIMEZONE
BEGIN:VEVENT
DTSTART;TZID=Europe/Paris:20250307T200000
DTEND;TZID=Europe/Paris:20250307T220000
DTSTAMP:20260423T151941
CREATED:20250220T181715Z
LAST-MODIFIED:20250220T183159Z
UID:1173-1741377600-1741384800@www.fne25.fr
SUMMARY:🐺 Conférence sur le Loup à l'IUT Besançon-Vesoul à Vaivre-et-Montoille (70000) !
DESCRIPTION:Après avoir disparu en France\, le loup est naturellement de retour dans notre région. Où est-il présent en France et en région ? Comment vit-il ? Est-il dangereux ? Comment concilier sa présence et les activités d’élevage ? \nEmmanuel Cretin\, biologiste écologue et spécialiste de l’aménagement du territoire et de l’environnement rural vous propose d’en apprendre plus sur le loup le temps d’une soirée. Rendez-vous le 7 mars à 20h\, à l’IUT Besançon-Vesoul à Vaivre-et-Montoille (70000) ! \nConférence gratuite et ouverte à tous. Inscriptions via le formulaire ci-dessous : Conférence « Le retour naturel du loup » – Vaivre-et-Montoille\, le 7 mars à 20h \nCet événement est organisé dans le cadre d’un cycle de conférences et de débat public dédié au loup\, en Bourgogne-Franche-Comté. Il est organisé par la LPO BFC\, FNE BFC et FNE Doubs. Ce programme est financé par France Nation Verte. \n 
URL:https://www.fne25.fr/event/%f0%9f%90%ba-conference-sur-le-loup-a-vesoul/
LOCATION:IUT Besançon-Vesoul à Vaivre-et-Montoille (70000)\, avenue Rives du Lac\, Vaivre et Montoille\, 70000\, France
ORGANIZER;CN="FNE Doubs":MAILTO:contact@fne25.fr
END:VEVENT
END:VCALENDAR