BEGIN:VCALENDAR
VERSION:2.0
PRODID:-//FNE 25 - ECPv6.11.2.1//NONSGML v1.0//EN
CALSCALE:GREGORIAN
METHOD:PUBLISH
X-ORIGINAL-URL:https://www.fne25.fr
X-WR-CALDESC:Évènements pour FNE 25
REFRESH-INTERVAL;VALUE=DURATION:PT1H
X-Robots-Tag:noindex
X-PUBLISHED-TTL:PT1H
BEGIN:VTIMEZONE
TZID:Europe/Paris
BEGIN:DAYLIGHT
TZOFFSETFROM:+0100
TZOFFSETTO:+0200
TZNAME:CEST
DTSTART:20240331T010000
END:DAYLIGHT
BEGIN:STANDARD
TZOFFSETFROM:+0200
TZOFFSETTO:+0100
TZNAME:CET
DTSTART:20241027T010000
END:STANDARD
END:VTIMEZONE
BEGIN:VEVENT
DTSTART;VALUE=DATE:20240922
DTEND;VALUE=DATE:20240923
DTSTAMP:20260424T113053
CREATED:20240920T151028Z
LAST-MODIFIED:20240920T151028Z
UID:1064-1726963200-1727049599@www.fne25.fr
SUMMARY:🪨 Chantier restauration de murs et visites commentées
DESCRIPTION:Ce dimanche 22 septembre\, retrouvez l’association Murs et murgers à partir de 9h et tout au long de la journée pour un chantier de restauration et des visites commentées.Cet événement vous est proposé dans le cadre des journées européennes du patrimoine. RDV au hameau des Cerneux à Laval-le-Prieuré\, route le Luhier/Gigot. \nCes chantiers sont ouverts au public (curieux\, amoureux·ses des pierres\, des murs et murgers)\, pour entretenir le patrimoine\, pour apprendre\, pour partager ses connaissances\, pour passer un moment convivial… \nPour plus d’informations : \n06 83 33 15 40 \nhttps://www.facebook.com/Murs-et-Murgers-1879351655676620
URL:https://www.fne25.fr/event/%f0%9f%aa%a8-chantier-restauration-de-murs-et-visites-commentees/
LOCATION:Laval le Prieuré\, Laval le Prieuré\, France
END:VEVENT
END:VCALENDAR