BEGIN:VCALENDAR
VERSION:2.0
PRODID:-//FNE 25 - ECPv6.11.2.1//NONSGML v1.0//EN
CALSCALE:GREGORIAN
METHOD:PUBLISH
X-WR-CALNAME:FNE 25
X-ORIGINAL-URL:https://www.fne25.fr
X-WR-CALDESC:Évènements pour FNE 25
REFRESH-INTERVAL;VALUE=DURATION:PT1H
X-Robots-Tag:noindex
X-PUBLISHED-TTL:PT1H
BEGIN:VTIMEZONE
TZID:Europe/Paris
BEGIN:DAYLIGHT
TZOFFSETFROM:+0100
TZOFFSETTO:+0200
TZNAME:CEST
DTSTART:20240331T010000
END:DAYLIGHT
BEGIN:STANDARD
TZOFFSETFROM:+0200
TZOFFSETTO:+0100
TZNAME:CET
DTSTART:20241027T010000
END:STANDARD
END:VTIMEZONE
BEGIN:VEVENT
DTSTART;TZID=Europe/Paris:20240921T090000
DTEND;TZID=Europe/Paris:20240921T170000
DTSTAMP:20260424T111658
CREATED:20240920T150526Z
LAST-MODIFIED:20240920T150526Z
UID:1059-1726909200-1726938000@www.fne25.fr
SUMMARY:🪨 Venez rencontrer Murs et Murgers !
DESCRIPTION:Retrouvez l’association Murs et Murgers le samedi 21 septembre au Marché bio de Bélieu de 9h à 17h. \nPour plus d’informations : \n06 83 33 15 40 \nhttps://www.facebook.com/Murs-et-Murgers-1879351655676620
URL:https://www.fne25.fr/event/%f0%9f%aa%a8-venez-rencontrer-murs-et-murgers/
LOCATION:Bélieu
END:VEVENT
BEGIN:VEVENT
DTSTART;TZID=Europe/Paris:20240921T103000
DTEND;TZID=Europe/Paris:20240921T103000
DTSTAMP:20260424T111658
CREATED:20240829T144041Z
LAST-MODIFIED:20240829T151636Z
UID:864-1726914600-1726914600@www.fne25.fr
SUMMARY:Vélorution de septembre
DESCRIPTION:Vélorution de septembre (velobesancon.info)
URL:https://www.fne25.fr/event/velorution-de-septembre/
LOCATION:.\, Esplanade des Droits de l'Homme\, Besançon\, 25000\, France
END:VEVENT
END:VCALENDAR