BEGIN:VCALENDAR
VERSION:2.0
PRODID:-//FNE 25 - ECPv6.11.2.1//NONSGML v1.0//EN
CALSCALE:GREGORIAN
METHOD:PUBLISH
X-WR-CALNAME:FNE 25
X-ORIGINAL-URL:https://www.fne25.fr
X-WR-CALDESC:Évènements pour FNE 25
REFRESH-INTERVAL;VALUE=DURATION:PT1H
X-Robots-Tag:noindex
X-PUBLISHED-TTL:PT1H
BEGIN:VTIMEZONE
TZID:Europe/Paris
BEGIN:DAYLIGHT
TZOFFSETFROM:+0100
TZOFFSETTO:+0200
TZNAME:CEST
DTSTART:20240331T010000
END:DAYLIGHT
BEGIN:STANDARD
TZOFFSETFROM:+0200
TZOFFSETTO:+0100
TZNAME:CET
DTSTART:20241027T010000
END:STANDARD
END:VTIMEZONE
BEGIN:VEVENT
DTSTART;TZID=Europe/Paris:20240629T083000
DTEND;TZID=Europe/Paris:20240629T170000
DTSTAMP:20260424T174552
CREATED:20240212T103530Z
LAST-MODIFIED:20240215T161445Z
UID:612-1719649800-1719680400@www.fne25.fr
SUMMARY:🐝🍯 Cours apiculteur débutant - Syndicat apicole du Doubs
DESCRIPTION:Cours apiculteur débutant #9 \nJournée spéciale\n8h30 – Transhumance\, l’été des abeilles. Récolte de miel.\n12h30 – Dégustation d’hydromel\, pain d’épices – Repas tiré du panier.\n14h00 – Extraction – analyse. Puis tous les animateurs et participants pour faire le point sur les cours dispensés.\nAnimateurs Michel MESNIER\, Alain PICARD\, Bernard TAVERDET\, Jean-Bernard ARBEZ\, Gérard SIMPLOT\, Martine EHRET\, Denis PUGIN\, support G VAUTHENY. \nInformations et inscriptions : https://www.sadapi25.fr/
URL:https://www.fne25.fr/event/%f0%9f%90%9d%f0%9f%8d%af-syndicat-apicole-du-doubs-cours-apiculteur-debutant/
END:VEVENT
END:VCALENDAR