BEGIN:VCALENDAR
VERSION:2.0
PRODID:-//FNE 25 - ECPv6.11.2.1//NONSGML v1.0//EN
CALSCALE:GREGORIAN
METHOD:PUBLISH
X-ORIGINAL-URL:https://www.fne25.fr
X-WR-CALDESC:Évènements pour FNE 25
REFRESH-INTERVAL;VALUE=DURATION:PT1H
X-Robots-Tag:noindex
X-PUBLISHED-TTL:PT1H
BEGIN:VTIMEZONE
TZID:Europe/Paris
BEGIN:DAYLIGHT
TZOFFSETFROM:+0100
TZOFFSETTO:+0200
TZNAME:CEST
DTSTART:20240331T010000
END:DAYLIGHT
BEGIN:STANDARD
TZOFFSETFROM:+0200
TZOFFSETTO:+0100
TZNAME:CET
DTSTART:20241027T010000
END:STANDARD
END:VTIMEZONE
BEGIN:VEVENT
DTSTART;TZID=Europe/Paris:20240622T093000
DTEND;TZID=Europe/Paris:20240622T120000
DTSTAMP:20260425T033458
CREATED:20240212T104317Z
LAST-MODIFIED:20240212T104402Z
UID:618-1719048600-1719057600@www.fne25.fr
SUMMARY:🦆🏞️ Sortie nature ENS du marais de Saône - FNE Doubs
DESCRIPTION:FNE Doubs vous convie à une sortie nature au marais de Saône 🦆🐾 🏞️ \nVenez découvrir les écosystèmes et la biodiversité du marais de Saône au cours d’une randonnée découverte. Vous pourrez en apprendre plus sur les milieux humides et sur les\nespèces qui y vivent avec une session d’observation de l’avifaune du site. \nRenseignements et inscription obligatoire : 03 81 61 36 44 ou mission@fne25.fr
URL:https://www.fne25.fr/event/%f0%9f%a6%86%f0%9f%8f%9e%ef%b8%8f-fne-doubs-sortie-nature-ens-du-marais-de-saone/
LOCATION:Marais de Saône
ORGANIZER;CN="FNE Doubs":MAILTO:contact@fne25.fr
END:VEVENT
END:VCALENDAR